BEGIN:VCALENDAR
VERSION:2.0
PRODID:-//The Creative Point - ECPv6.13.2.1//NONSGML v1.0//EN
CALSCALE:GREGORIAN
METHOD:PUBLISH
X-ORIGINAL-URL:https://yourcreativepoint.com
X-WR-CALDESC:Events for The Creative Point
REFRESH-INTERVAL;VALUE=DURATION:PT1H
X-Robots-Tag:noindex
X-PUBLISHED-TTL:PT1H
BEGIN:VTIMEZONE
TZID:UTC
BEGIN:STANDARD
TZOFFSETFROM:+0000
TZOFFSETTO:+0000
TZNAME:UTC
DTSTART:20260101T000000
END:STANDARD
END:VTIMEZONE
BEGIN:VEVENT
DTSTART;VALUE=DATE:20260519
DTEND;VALUE=DATE:20260524
DTSTAMP:20260420T051453
CREATED:20260306T011428Z
LAST-MODIFIED:20260306T011428Z
UID:732-1779148800-1779580799@yourcreativepoint.com
SUMMARY:Ohio Shop Hop Winner
DESCRIPTION:Anna
URL:https://yourcreativepoint.com/event/ohio-shop-hop-winner/
END:VEVENT
BEGIN:VEVENT
DTSTART;VALUE=DATE:20260529
DTEND;VALUE=DATE:20260603
DTSTAMP:20260420T051453
CREATED:20260120T213747Z
LAST-MODIFIED:20260120T213747Z
UID:726-1780012800-1780444799@yourcreativepoint.com
SUMMARY:Booked
DESCRIPTION:MI Shop Hop Winner \nDenise Barton
URL:https://yourcreativepoint.com/event/booked-12/
END:VEVENT
BEGIN:VEVENT
DTSTART;VALUE=DATE:20260609
DTEND;VALUE=DATE:20260613
DTSTAMP:20260420T051453
CREATED:20251206T005528Z
LAST-MODIFIED:20260120T213854Z
UID:712-1780963200-1781308799@yourcreativepoint.com
SUMMARY:Booked
DESCRIPTION:Kentucky/TN Shop Hop Winner \nKimberly McCardy
URL:https://yourcreativepoint.com/event/booked-3/
END:VEVENT
BEGIN:VEVENT
DTSTART;VALUE=DATE:20260831
DTEND;VALUE=DATE:20260904
DTSTAMP:20260420T051453
CREATED:20251215T230222Z
LAST-MODIFIED:20251215T231559Z
UID:717-1788134400-1788479999@yourcreativepoint.com
SUMMARY:Booked
DESCRIPTION:Doris
URL:https://yourcreativepoint.com/event/booked-7/
END:VEVENT
BEGIN:VEVENT
DTSTART;VALUE=DATE:20260930
DTEND;VALUE=DATE:20261007
DTSTAMP:20260420T051453
CREATED:20251215T230402Z
LAST-MODIFIED:20251215T230402Z
UID:718-1790726400-1791331199@yourcreativepoint.com
SUMMARY:Booked
DESCRIPTION:Linda P
URL:https://yourcreativepoint.com/event/booked-8/
END:VEVENT
BEGIN:VEVENT
DTSTART;VALUE=DATE:20261112
DTEND;VALUE=DATE:20261116
DTSTAMP:20260420T051453
CREATED:20251206T005749Z
LAST-MODIFIED:20251206T005749Z
UID:713-1794441600-1794787199@yourcreativepoint.com
SUMMARY:Booked
DESCRIPTION:Eliza
URL:https://yourcreativepoint.com/event/booked-4/
END:VEVENT
END:VCALENDAR