BEGIN:VCALENDAR
VERSION:2.0
PRODID:-//The Creative Point - ECPv6.13.2.1//NONSGML v1.0//EN
CALSCALE:GREGORIAN
METHOD:PUBLISH
X-WR-CALNAME:The Creative Point
X-ORIGINAL-URL:https://yourcreativepoint.com
X-WR-CALDESC:Events for The Creative Point
REFRESH-INTERVAL;VALUE=DURATION:PT1H
X-Robots-Tag:noindex
X-PUBLISHED-TTL:PT1H
BEGIN:VTIMEZONE
TZID:UTC
BEGIN:STANDARD
TZOFFSETFROM:+0000
TZOFFSETTO:+0000
TZNAME:UTC
DTSTART:20250101T000000
END:STANDARD
END:VTIMEZONE
BEGIN:VEVENT
DTSTART;VALUE=DATE:20260430
DTEND;VALUE=DATE:20260508
DTSTAMP:20260419T235944
CREATED:20251215T230630Z
LAST-MODIFIED:20260120T213514Z
UID:719-1777507200-1778198399@yourcreativepoint.com
SUMMARY:Booked
DESCRIPTION:Linda P
URL:https://yourcreativepoint.com/event/booked-9/
END:VEVENT
BEGIN:VEVENT
DTSTART;VALUE=DATE:20260408
DTEND;VALUE=DATE:20260413
DTSTAMP:20260419T235944
CREATED:20250912T005116Z
LAST-MODIFIED:20251215T230037Z
UID:702-1775606400-1776038399@yourcreativepoint.com
SUMMARY:Booked
DESCRIPTION:Shop Hop Winner_Illinois
URL:https://yourcreativepoint.com/event/book_illinois/
END:VEVENT
BEGIN:VEVENT
DTSTART;VALUE=DATE:20260327
DTEND;VALUE=DATE:20260330
DTSTAMP:20260419T235944
CREATED:20260112T150912Z
LAST-MODIFIED:20260112T150912Z
UID:723-1774569600-1774828799@yourcreativepoint.com
SUMMARY:Booked
DESCRIPTION:Jane Johnson
URL:https://yourcreativepoint.com/event/booked-10/
END:VEVENT
BEGIN:VEVENT
DTSTART;VALUE=DATE:20260316
DTEND;VALUE=DATE:20260321
DTSTAMP:20260419T235944
CREATED:20260112T151023Z
LAST-MODIFIED:20260112T151023Z
UID:724-1773619200-1774051199@yourcreativepoint.com
SUMMARY:Booked
DESCRIPTION:Sue R
URL:https://yourcreativepoint.com/event/booked-11/
END:VEVENT
BEGIN:VEVENT
DTSTART;VALUE=DATE:20260208
DTEND;VALUE=DATE:20260214
DTSTAMP:20260419T235944
CREATED:20251206T005342Z
LAST-MODIFIED:20251206T005342Z
UID:711-1770508800-1771027199@yourcreativepoint.com
SUMMARY:Booked
DESCRIPTION:Heidi
URL:https://yourcreativepoint.com/event/booked-2/
END:VEVENT
BEGIN:VEVENT
DTSTART;VALUE=DATE:20260128
DTEND;VALUE=DATE:20260201
DTSTAMP:20260419T235944
CREATED:20251212T003406Z
LAST-MODIFIED:20251212T003406Z
UID:715-1769558400-1769903999@yourcreativepoint.com
SUMMARY:Booked
DESCRIPTION:Eliza
URL:https://yourcreativepoint.com/event/booked-6/
END:VEVENT
BEGIN:VEVENT
DTSTART;VALUE=DATE:20251205
DTEND;VALUE=DATE:20251209
DTSTAMP:20260419T235944
CREATED:20251206T005947Z
LAST-MODIFIED:20251206T005947Z
UID:714-1764892800-1765238399@yourcreativepoint.com
SUMMARY:Booked
DESCRIPTION:Linda P
URL:https://yourcreativepoint.com/event/booked-5/
END:VEVENT
BEGIN:VEVENT
DTSTART;TZID=UTC:20251113T090000
DTEND;TZID=UTC:20251117T090000
DTSTAMP:20260419T235944
CREATED:20250429T180601Z
LAST-MODIFIED:20250430T232659Z
UID:688-1763024400-1763370000@yourcreativepoint.com
SUMMARY:Booked
DESCRIPTION:
URL:https://yourcreativepoint.com/event/elise/
LOCATION:The Creative Point\, 1815 Brookside Drive\, Findlay\, OH\, 45840\, United States
END:VEVENT
BEGIN:VEVENT
DTSTART;VALUE=DATE:20251001
DTEND;VALUE=DATE:20251007
DTSTAMP:20260419T235944
CREATED:20250912T004914Z
LAST-MODIFIED:20250912T004914Z
UID:699-1759276800-1759795199@yourcreativepoint.com
SUMMARY:Booked
DESCRIPTION:
URL:https://yourcreativepoint.com/event/booked/
END:VEVENT
BEGIN:VEVENT
DTSTART;TZID=UTC:20250922T090000
DTEND;TZID=UTC:20250926T090000
DTSTAMP:20260419T235944
CREATED:20250429T180416Z
LAST-MODIFIED:20250430T232645Z
UID:687-1758531600-1758877200@yourcreativepoint.com
SUMMARY:Booked
DESCRIPTION:
URL:https://yourcreativepoint.com/event/doris/
LOCATION:The Creative Point\, 1815 Brookside Drive\, Findlay\, OH\, 45840\, United States
END:VEVENT
BEGIN:VEVENT
DTSTART;TZID=UTC:20250512T090000
DTEND;TZID=UTC:20250516T090000
DTSTAMP:20260419T235944
CREATED:20250429T180153Z
LAST-MODIFIED:20250430T232631Z
UID:686-1747040400-1747386000@yourcreativepoint.com
SUMMARY:Booked
DESCRIPTION:
URL:https://yourcreativepoint.com/event/h/
LOCATION:The Creative Point\, 1815 Brookside Drive\, Findlay\, OH\, 45840\, United States
END:VEVENT
BEGIN:VEVENT
DTSTART;TZID=UTC:20250501T090000
DTEND;TZID=UTC:20250505T090000
DTSTAMP:20260419T235944
CREATED:20250429T180012Z
LAST-MODIFIED:20250430T232620Z
UID:684-1746090000-1746435600@yourcreativepoint.com
SUMMARY:Booked
DESCRIPTION:
URL:https://yourcreativepoint.com/event/lp/
LOCATION:The Creative Point\, 1815 Brookside Drive\, Findlay\, OH\, 45840\, United States
END:VEVENT
END:VCALENDAR