BEGIN:VCALENDAR
VERSION:2.0
PRODID:-//The Creative Point - ECPv6.13.2.1//NONSGML v1.0//EN
CALSCALE:GREGORIAN
METHOD:PUBLISH
X-WR-CALNAME:The Creative Point
X-ORIGINAL-URL:https://yourcreativepoint.com
X-WR-CALDESC:Events for The Creative Point
REFRESH-INTERVAL;VALUE=DURATION:PT1H
X-Robots-Tag:noindex
X-PUBLISHED-TTL:PT1H
BEGIN:VTIMEZONE
TZID:UTC
BEGIN:STANDARD
TZOFFSETFROM:+0000
TZOFFSETTO:+0000
TZNAME:UTC
DTSTART:20260101T000000
END:STANDARD
END:VTIMEZONE
BEGIN:VEVENT
DTSTART;VALUE=DATE:20260831
DTEND;VALUE=DATE:20260904
DTSTAMP:20260420T014041
CREATED:20251215T230222Z
LAST-MODIFIED:20251215T231559Z
UID:717-1788134400-1788479999@yourcreativepoint.com
SUMMARY:Booked
DESCRIPTION:Doris
URL:https://yourcreativepoint.com/event/booked-7/
END:VEVENT
END:VCALENDAR