BEGIN:VCALENDAR
VERSION:2.0
PRODID:-//The Creative Point - ECPv6.13.2.1//NONSGML v1.0//EN
CALSCALE:GREGORIAN
METHOD:PUBLISH
X-ORIGINAL-URL:https://yourcreativepoint.com
X-WR-CALDESC:Events for The Creative Point
REFRESH-INTERVAL;VALUE=DURATION:PT1H
X-Robots-Tag:noindex
X-PUBLISHED-TTL:PT1H
BEGIN:VTIMEZONE
TZID:UTC
BEGIN:STANDARD
TZOFFSETFROM:+0000
TZOFFSETTO:+0000
TZNAME:UTC
DTSTART:20260101T000000
END:STANDARD
END:VTIMEZONE
BEGIN:VEVENT
DTSTART;VALUE=DATE:20260519
DTEND;VALUE=DATE:20260524
DTSTAMP:20260419T200703
CREATED:20260306T011428Z
LAST-MODIFIED:20260306T011428Z
UID:732-1779148800-1779580799@yourcreativepoint.com
SUMMARY:Ohio Shop Hop Winner
DESCRIPTION:Anna
URL:https://yourcreativepoint.com/event/ohio-shop-hop-winner/
END:VEVENT
END:VCALENDAR