BEGIN:VCALENDAR
VERSION:2.0
PRODID:-//The Creative Point - ECPv6.13.2.1//NONSGML v1.0//EN
CALSCALE:GREGORIAN
METHOD:PUBLISH
X-WR-CALNAME:The Creative Point
X-ORIGINAL-URL:https://yourcreativepoint.com
X-WR-CALDESC:Events for The Creative Point
REFRESH-INTERVAL;VALUE=DURATION:PT1H
X-Robots-Tag:noindex
X-PUBLISHED-TTL:PT1H
BEGIN:VTIMEZONE
TZID:UTC
BEGIN:STANDARD
TZOFFSETFROM:+0000
TZOFFSETTO:+0000
TZNAME:UTC
DTSTART:20260101T000000
END:STANDARD
END:VTIMEZONE
BEGIN:VEVENT
DTSTART;VALUE=DATE:20260208
DTEND;VALUE=DATE:20260214
DTSTAMP:20260420T000207
CREATED:20251206T005342Z
LAST-MODIFIED:20251206T005342Z
UID:711-1770508800-1771027199@yourcreativepoint.com
SUMMARY:Booked
DESCRIPTION:Heidi
URL:https://yourcreativepoint.com/event/booked-2/
END:VEVENT
END:VCALENDAR